BEGIN:VCALENDAR
VERSION:2.0
PRODID:-//Akasha Coaching &amp; Healing - ECPv6.15.20//NONSGML v1.0//EN
CALSCALE:GREGORIAN
METHOD:PUBLISH
X-ORIGINAL-URL:https://akasha-coaching-healing.nl
X-WR-CALDESC:Evenementen voor Akasha Coaching &amp; Healing
REFRESH-INTERVAL;VALUE=DURATION:PT1H
X-Robots-Tag:noindex
X-PUBLISHED-TTL:PT1H
BEGIN:VTIMEZONE
TZID:Europe/Amsterdam
BEGIN:DAYLIGHT
TZOFFSETFROM:+0100
TZOFFSETTO:+0200
TZNAME:CEST
DTSTART:20250330T010000
END:DAYLIGHT
BEGIN:STANDARD
TZOFFSETFROM:+0200
TZOFFSETTO:+0100
TZNAME:CET
DTSTART:20251026T010000
END:STANDARD
BEGIN:DAYLIGHT
TZOFFSETFROM:+0100
TZOFFSETTO:+0200
TZNAME:CEST
DTSTART:20260329T010000
END:DAYLIGHT
BEGIN:STANDARD
TZOFFSETFROM:+0200
TZOFFSETTO:+0100
TZNAME:CET
DTSTART:20261025T010000
END:STANDARD
BEGIN:DAYLIGHT
TZOFFSETFROM:+0100
TZOFFSETTO:+0200
TZNAME:CEST
DTSTART:20270328T010000
END:DAYLIGHT
BEGIN:STANDARD
TZOFFSETFROM:+0200
TZOFFSETTO:+0100
TZNAME:CET
DTSTART:20271031T010000
END:STANDARD
END:VTIMEZONE
BEGIN:VEVENT
DTSTART;TZID=Europe/Amsterdam:20260503T100000
DTEND;TZID=Europe/Amsterdam:20260503T130000
DTSTAMP:20260423T223318
CREATED:20250617T132015Z
LAST-MODIFIED:20260203T201214Z
UID:3084-1777802400-1777813200@akasha-coaching-healing.nl
SUMMARY:Seichem 2 Cursus
DESCRIPTION:Wat leer je? \n\nIn deze Seichem 2 cursus\, leer je een aantal specifieke Seichem symbolen\nJe leert hoe je deze symbolen moet en kunt gebruiken in combinatie met de Reiki symbolen die je al hebt ontvangen bij de Reiki 2 cursus.\nJe krijgt 2 maanden lang elke week een weekopdracht toegestuurd waarmee je de Seichem symbolen kunt oefenen.\n\nWat ontvang je? \n\nEen cursus dagdeel inclusief water\, thee en versnapering.\nJe de tweedegraads initiatie  in Seichem. Je kanaal voor Seichem wordt bij wijze van spreken verder “opgerekt” waardoor je energie krachtiger kunt doorgeven.\nJouw persoonlijke certificaat.\nJe krijgt cursusmateriaal mee waarin staat wat je hebt geleerd\, wat je kunt toevoegen aan je Reiki 2 cursusboek.\nJe krijgt toegang tot een Whatsapp groep van medecursisten: jouw tribe.\nJe krijgt 3 maanden lang elke week een weekopdracht toegestuurd waarmee je de nieuwe symbolen kunt oefenen.\n\nPraktische zaken \n\nVoor wie? Iedereen die al in de tweede graad Reiki en de eerste graad Seichem is ingewijd kan de Seichem 2 inwijding ontvangen.\nWanneer? Kijk in het Activiteitenoverzicht voor de ingeplande cursusdata. Je mag me altijd contacteren. In overleg is het mogelijk een extra datum in te plannen.\nCursuslocatie is Waalre\, je hoort een week vooraf waar precies.\nInvestering? 120 euro inclusief of vrijgesteld van BTW\nMaximaal 12 deelnemers per cursusdag.\nDeelnemers ontvangen automatisch af en toe een nieuwsbrief. Je kan elk moment uitschrijven.\nNa aanmelding ontvang je binnen 5 dagen bevestiging.\n\nSchakel JavaScript in je browser in om dit formulier in te vullen.Ik schrijf mij in voor de cursus Seichem 2 op:kies een datumzondagochtend 3 mei 2026zondagochtend 15 november 2026Kies voor welke datum je je inschrijft. Je ontvangt binnen een week bevestiging van me.\nJe kunt de Seichem 2 cursus enkel volgen als je een Seichem 1 en Reiki 2 certificaat hebt.\nHoudt ongeveer 3 weken tijd tussen je Seichem 1 en Seichem 2 initiatie. Voornaam *Achternaam *Telefoonnummer *Voor het geval een cursus onverhoopt niet doorgaat.Email Adres *Eventuele opmerkingenMessageVersturen
URL:https://akasha-coaching-healing.nl/event/seichem-2-cursus-1/
LOCATION:Waalre onder Eindhoven.\, Waalre\, Noord Brabant
CATEGORIES:Seichem 2 cursus
ATTACH;FMTTYPE=image/png:https://akasha-coaching-healing.nl/wp-content/uploads/2025/06/Seichem-logo.png
END:VEVENT
END:VCALENDAR