BEGIN:VCALENDAR
VERSION:2.0
PRODID:-//Akasha Coaching &amp; Healing - ECPv6.15.20//NONSGML v1.0//EN
CALSCALE:GREGORIAN
METHOD:PUBLISH
X-ORIGINAL-URL:https://akasha-coaching-healing.nl
X-WR-CALDESC:Evenementen voor Akasha Coaching &amp; Healing
REFRESH-INTERVAL;VALUE=DURATION:PT1H
X-Robots-Tag:noindex
X-PUBLISHED-TTL:PT1H
BEGIN:VTIMEZONE
TZID:Europe/Amsterdam
BEGIN:DAYLIGHT
TZOFFSETFROM:+0100
TZOFFSETTO:+0200
TZNAME:CEST
DTSTART:20250330T010000
END:DAYLIGHT
BEGIN:STANDARD
TZOFFSETFROM:+0200
TZOFFSETTO:+0100
TZNAME:CET
DTSTART:20251026T010000
END:STANDARD
BEGIN:DAYLIGHT
TZOFFSETFROM:+0100
TZOFFSETTO:+0200
TZNAME:CEST
DTSTART:20260329T010000
END:DAYLIGHT
BEGIN:STANDARD
TZOFFSETFROM:+0200
TZOFFSETTO:+0100
TZNAME:CET
DTSTART:20261025T010000
END:STANDARD
BEGIN:DAYLIGHT
TZOFFSETFROM:+0100
TZOFFSETTO:+0200
TZNAME:CEST
DTSTART:20270328T010000
END:DAYLIGHT
BEGIN:STANDARD
TZOFFSETFROM:+0200
TZOFFSETTO:+0100
TZNAME:CET
DTSTART:20271031T010000
END:STANDARD
END:VTIMEZONE
BEGIN:VEVENT
DTSTART;TZID=Europe/Amsterdam:20260305T190000
DTEND;TZID=Europe/Amsterdam:20260305T220000
DTSTAMP:20260423T223033
CREATED:20240122T223929Z
LAST-MODIFIED:20250904T193226Z
UID:2023-1772737200-1772748000@akasha-coaching-healing.nl
SUMMARY:Reiki do avond (Oefenavond)
DESCRIPTION:Hoe meer je Reiki geeft\, des te sterker Reiki gaat stromen. Een Reiki initiatie is de basis voor je verdere ontwikkeling op het pad van Reiki en van bewustwording. Tijdens de Reiki do avonden geven de deelnemers elkaar Reiki en versterken zo de helende energie bij elkaar en zichzelf. Het is een mooie gelegenheid om gelijk geïnteresseerden te ontmoeten en om zelf ook zo’n heerlijke Reiki behandeling te ontvangen. Iedereen met minimaal Reiki 1 is van harte welkom. Heb je de Reiki 1 cursus gedaan bij Akasha Coaching & Healing\, dan heb je gratis toegang tot drie Reiki do avonden binnen 6 maanden na je cursus. 								\n				\n				\n				\n					Praktische zaken				\n				\n					\n				\n		\n					\n				\n				\n									Na aanmelding ontvang je een bevestiging binnen 5 dagen.De genoemde prijs is inclusief btw of vrijgesteld van btw.Thee e.d. wordt verzorgd.Neem een grote handdoek of fleecedekentje mee.Maximaal 8 deelnemers per avond (vol is vol).Email nieuws ontvang je automatisch bij aanmelding en kan je elk moment stoppen.								\n				\n					\n				\n		\n					\n				\n				\n					Ja\, ik schrijf me in voor de Reiki do (oefen)avond in Waalre				\n				\n					\n				\n		\n					\n				\n				\n									Schakel JavaScript in je browser in om dit formulier in te vullen.Ik schrijf mij in voor de Reiki do (praktijk)avond op: *Kies een datumdonderdag 30 april 2026donderdag 28 mei 2026donderdag 25 juni 2026donderdag 28 augustus 2026donderdag  17 september 2026donderdag 15 oktober 2026donderdag 12 november 2026donderdag 10 december 2026Kies voor welke datum je je inschrijft. Je ontvangt binnen een week bevestiging van me.\nJe kunt al deelnemen als je minimaal een Reiki 1 cursus hebt gevolgd.Voornaam *Achternaam *Telefoonnummer *Voor het geval een avond onverhoopt niet kan doorgaan.Email Adres *Eventuele opmerkingenPhoneVersturen
URL:https://akasha-coaching-healing.nl/event/reiki-healing-oefenavond/
LOCATION:Akasha Coaching en Healing\, Blokvenlaan 17\, Waalre\, 5581GM\, Nederland
CATEGORIES:Reiki do (Oefenavond)
ATTACH;FMTTYPE=image/jpeg:https://akasha-coaching-healing.nl/wp-content/uploads/2024/09/Reiki-en-Seichem-oefenavond-rotated-e1775465616891.jpg
ORGANIZER;CN="Henriette Nouwens":MAILTO:henriette@akasha-coaching-healing.nl
END:VEVENT
BEGIN:VEVENT
DTSTART;TZID=Europe/Amsterdam:20260315T100000
DTEND;TZID=Europe/Amsterdam:20260315T170000
DTSTAMP:20260423T223033
CREATED:20240122T212825Z
LAST-MODIFIED:20250902T195920Z
UID:1997-1773568800-1773594000@akasha-coaching-healing.nl
SUMMARY:Reiki 1 cursus
DESCRIPTION:Reiki 1 cursus in Brabant (Waalre bij Eindhoven) 2025\nLeer werken met Reiki\, de universele levensenergie en ontvang je eerstegraads initiatie om je te openen voor de helende kracht van Reiki. \nWat is Reiki?\nReiki is de universele levensenergie en iedereen beschikt dus over Reiki\, anders zou je niet leven. In andere systemen wordt Reiki ook wel prana\, chi of ki genoemd. Reiki is dus niets on- of bovennatuurlijks. Hoewel je bij elke ademhaling reiki inademt\, wordt het kanaal waardoor het via je kruin ook binnenstroomt in de eerste levensjaren nauwer of sluit het zich helemaal. Tijdens een Reiki-initiatie wordt dit kanaal opnieuw geactiveerd\, zodat je de Reiki kunt gaan doorgeven via je handen. \nWat doet Reiki?\nReiki helpt bij het herstel van het evenwicht tussen geest en lichaam. (Zelf)behandeling met Reiki bevordert genezing op lichamelijk en geestelijk gebied. Het helpt bij het opheffen van blokkades\, werkt ontgiftend\, ontspannend. Als er disbalans is\, wat zich uit in bijvoorbeeld ziekte\, een ongeval of psychische problemen helpt de Reiki energie om weer in balans te komen. \nWat is de Reiki methode?\nAls we het hebben over de Reiki methode\, bedoelen we de van oorsprong Japanse helingsmethode die zich richt op het kanaliseren en (meestal) via de handen doorgeven van de universele levensenergie (Reiki). De methode kent 3 graden waarbij elke graad staat voor een bepaalde mate van openheid om kanaal voor Reiki te zijn. \nWaarom zou ik Reiki willen kunnen geven?\nIk weet niet hoe jouw leven er uit ziet maar misschien voel jij alsof er van alle kanten aan je getrokken wordt\, voel je je soms uit balans. In je lijf of in je hoofd of in je emoties. Dan is het belangrijk ervoor te zorgen dat je in je eigen energie blijft staan. Te zorgen dat je goed bent geaard (stevig verbonden met de aarde) en goed in verbinding met jezelf bent. Met deze cursus heb je altijd Reiki achter de hand. Waar of wanneer je het ook nodig hebt\, jij kunt jezelf een extra dosis Reiki geven die jouw lichaam en geest kan helpen te herstellen. Maar je kunt ook anderen Reiki geven wat hun lichaam en geest kan helpen bij herstel. \nWat leer ik in de Reiki 1 cursus?\n\nTijdens de Reiki 1 cursus word je ‘afgestemd’ op (je wordt geïnitieerd in) de Reiki energie. Deze bijzondere ervaring opent jou als kanaal voor de helende kracht van Reiki.\nJe gaat de helende Reiki-energie ervaren tijdens een zelfbehandeling en\nleert verschillende toepassingen van Reiki. Je zult verbaasd staan over de mogelijkheden\nDe 5 leefprincipes van Reiki worden toegelicht en\nje hoort de geschiedenis van Reiki.\nAan het einde van de cursus ontvangt je jouw persoonlijke certificaat.\nDe initiatie en kennis die je deze dag ontvangt is de basis voor je verdere ontwikkeling op het pad van Reiki en van bewustwording. Om je hierbij te ondersteunen\, krijg je na de cursus gratis toegang tot drie Reiki do avonden waar deelnemers Reiki toepassen op elkaar en zo de helende energie bij elkaar en zichzelf versterken.\nJe krijgt een cursusboek mee waarin staat wat je hebt geleerd\, inclusief de afstemmingsmeditatie en verdere verdiepende mogelijkheden.\n\nVoor wie is deze Reiki cursus geschikt?\nIedereen kan in principe de Reiki inwijding ontvangen. Uiteraard … Hoe meer je oefent\, des te sterker je wordt. De cursus is gericht op de leeftijdsgroep 21 jaar en ouder. \n\nPraktische zaken\n\nNa aanmelding ontvang je een bevestiging met details binnen 5 dagen.\nMet meer deelnemers tegelijk aanmelden? Stuur even een email ajb.\nDe genoemde prijs is inclusief btw of vrijgesteld van btw.\nThee e.d. wordt verzorgd.\nLunch graag zelf meenemen (supermarkt is op loopafstand).\nEmail nieuws ontvang je automatisch bij aanmelding en kan je elk moment stoppen.\nDe cursuslocatie is in Waalre (Noord Brabant). De exacte locatie hangt af van het aantal deelnemers. Beide locaties liggen op 6 minuten loopafstand van de bushalte Bergstraat in Waalre.\n\n\nJa\, ik schrijf me in voor de Reiki 1 Cursus\nSchakel JavaScript in je browser in om dit formulier in te vullen.Ik schrijf mij in voor de cursus Reiki 1 op:Kies een datumzaterdag 9 mei 2026zondag 14 juni 2026zaterdag 4 juli 2026zondag 6 september 2026zaterdag 3 oktober 2026zondag 1 november 2026zaterdag 12 december 2026Voornaam *Achternaam *Bedrijfsnaam (optioneel)Straat en huisnr. *Postcode en Plaatsnaam *Telefoonnummer *Voor het geval een cursus onverhoopt niet doorgaat.Email Adres *Eventuele opmerkingenWebsiteVersturen
URL:https://akasha-coaching-healing.nl/event/reiki-1-cursus-7/
LOCATION:Waalre onder Eindhoven.\, Waalre\, Noord Brabant
CATEGORIES:Reiki 1 Cursus
ORGANIZER;CN="Henriette Nouwens":MAILTO:henriette@akasha-coaching-healing.nl
END:VEVENT
END:VCALENDAR