BEGIN:VCALENDAR
VERSION:2.0
PRODID:-//Akasha Coaching &amp; Healing - ECPv6.15.20//NONSGML v1.0//EN
CALSCALE:GREGORIAN
METHOD:PUBLISH
X-ORIGINAL-URL:https://akasha-coaching-healing.nl
X-WR-CALDESC:Evenementen voor Akasha Coaching &amp; Healing
REFRESH-INTERVAL;VALUE=DURATION:PT1H
X-Robots-Tag:noindex
X-PUBLISHED-TTL:PT1H
BEGIN:VTIMEZONE
TZID:Europe/Amsterdam
BEGIN:DAYLIGHT
TZOFFSETFROM:+0100
TZOFFSETTO:+0200
TZNAME:CEST
DTSTART:20240331T010000
END:DAYLIGHT
BEGIN:STANDARD
TZOFFSETFROM:+0200
TZOFFSETTO:+0100
TZNAME:CET
DTSTART:20241027T010000
END:STANDARD
BEGIN:DAYLIGHT
TZOFFSETFROM:+0100
TZOFFSETTO:+0200
TZNAME:CEST
DTSTART:20250330T010000
END:DAYLIGHT
BEGIN:STANDARD
TZOFFSETFROM:+0200
TZOFFSETTO:+0100
TZNAME:CET
DTSTART:20251026T010000
END:STANDARD
BEGIN:DAYLIGHT
TZOFFSETFROM:+0100
TZOFFSETTO:+0200
TZNAME:CEST
DTSTART:20260329T010000
END:DAYLIGHT
BEGIN:STANDARD
TZOFFSETFROM:+0200
TZOFFSETTO:+0100
TZNAME:CET
DTSTART:20261025T010000
END:STANDARD
END:VTIMEZONE
BEGIN:VEVENT
DTSTART;TZID=Europe/Amsterdam:20251107T100000
DTEND;TZID=Europe/Amsterdam:20251107T130000
DTSTAMP:20260424T141823
CREATED:20250617T130322Z
LAST-MODIFIED:20251025T132023Z
UID:3075-1762509600-1762520400@akasha-coaching-healing.nl
SUMMARY:Seichem 1 cursus
DESCRIPTION:Wat leer je? \n\nIn deze Seichem 1 cursus 2025\, leer je je afstemmen op de Seichem energie.\nJe leert over de energieën\, verbonden op de 4 elementen: Reiki\, Sakara\, Sophi-El en AngelicLight.\nWil je nu vast wat meer weten over Seichem? Lees de blog.\n\nWat ontvang je? \n\nJe initiatie: tijdens deze  Seichem cursus word je ‘afgestemd’ op (je wordt geïnitieerd in) de Seichem  energieën. Deze bijzondere ervaring opent jou als kanaal voor de helende kracht van Seichem. Bij de initiatie worden 4 chakra’s in een keer geïnitieerd.\nJe krijgt cursusmateriaal mee waarin staat wat je hebt geleerd\, wat je kunt toevoegen aan je Reiki 1 cursusboek.\nEen dagdeel cursus inclusief water\, thee en versnapering.\nJouw persoonlijke certificaat.\n\nDe initiatie en kennis die je deze dag ontvangt is de basis voor je verdere ontwikkeling op het pad van Reiki\, Seichem en van bewustwording. Om je hierbij te ondersteunen\, ben je van harte uitgenodigd de oefenavonden bij te wonen\, waar deelnemers Reiki / Seichem toepassen op elkaar en zo de helende energie bij elkaar en zichzelf versterken. \nPraktische zaken \n\nVoor wie? Als je je Reiki 1 inwijding al hebt ontvangen kun je je Seichem 1 cursus doen. De cursus is gericht op 21 jaar en ouder.\nInvestering? 95 euro\, inclusief of vrijgesteld van btw.\nCursuslocatie is Waalre (Noord Brabant) op 6 minuten loopafstand van de bushalte Bergstraat. \nMaximaal 12 deelnemers per cursus.\nDeelnemers ontvangen automatisch af en toe een nieuwsbrief. Je kan elk moment uitschrijven.\nNa aanmelding ontvang je binnen 5 dagen bevestiging.\n\nSchakel JavaScript in je browser in om dit formulier in te vullen.Ik schrijf mij in voor de cursus Seichem 1 op:zondagochtend 11 oktober 2026Kies welke datum je mee doet. Om te kunnen deelnemen aan de Seichem 1 cursus heb je een Reiki 1 certificaat nodig. Houd bij voorkeur 3 weken aan tussen je Reiki 1 en Seichem 1 initiatie.Voornaam *Achternaam *Telefoonnummer *Voor het geval een cursus onverhoopt niet doorgaat.Email Adres *Eventuele opmerkingenPhoneVersturen
URL:https://akasha-coaching-healing.nl/event/seichem1-2/
LOCATION:Waalre\, onder Eindhoven\, Waalre\, Netherlands
CATEGORIES:Seichem 1 cursus
ATTACH;FMTTYPE=image/png:https://akasha-coaching-healing.nl/wp-content/uploads/2025/06/Seichem-logo.png
END:VEVENT
BEGIN:VEVENT
DTSTART;TZID=Europe/Amsterdam:20251108T100000
DTEND;TZID=Europe/Amsterdam:20251108T170000
DTSTAMP:20260424T141823
CREATED:20250903T103819Z
LAST-MODIFIED:20250903T103819Z
UID:3225-1762596000-1762621200@akasha-coaching-healing.nl
SUMMARY:Reiki 1 cursus
DESCRIPTION:Reiki 1 cursus Brabant (Eindhoven-Waalre) 2026\nLeer werken met Reiki\, de universele levensenergie en ontvang je eerstegraads initiatie om je te openen voor de helende kracht van Reiki. \nWat is Reiki?\nReiki is de universele levensenergie en iedereen beschikt dus over Reiki\, anders zou je niet leven. In andere systemen wordt Reiki ook wel prana\, chi of ki genoemd. Reiki is dus niets on- of bovennatuurlijks. Hoewel je bij elke ademhaling reiki inademt\, wordt het kanaal waardoor het via je kruin ook binnenstroomt in de eerste levensjaren nauwer of sluit het zich helemaal. Tijdens een Reiki-initiatie wordt dit kanaal opnieuw geactiveerd\, zodat je de Reiki kunt gaan doorgeven via je handen. \nWat doet Reiki?\nReiki helpt bij het herstel van het evenwicht tussen geest en lichaam. (Zelf)behandeling met Reiki bevordert genezing op lichamelijk en geestelijk gebied. Het helpt bij het opheffen van blokkades\, werkt ontgiftend\, ontspannend. Als er disbalans is\, wat zich uit in bijvoorbeeld ziekte\, een ongeval of psychische problemen helpt de Reiki energie om weer in balans te komen. \nWat is de Reiki methode?\nAls we het hebben over de Reiki methode\, bedoelen we de van oorsprong Japanse helingsmethode die zich richt op het kanaliseren en (meestal) via de handen doorgeven van de universele levensenergie (Reiki). De methode kent 3 graden waarbij elke graad staat voor een bepaalde mate van openheid om kanaal voor Reiki te zijn. \nWaarom zou ik Reiki willen kunnen geven?\nIk weet niet hoe jouw leven er uit ziet maar misschien voel jij alsof er van alle kanten aan je getrokken wordt\, voel je je soms uit balans. In je lijf of in je hoofd of in je emoties. Dan is het belangrijk ervoor te zorgen dat je in je eigen energie blijft staan. Te zorgen dat je goed bent geaard (stevig verbonden met de aarde) en goed in verbinding met jezelf bent. Met deze cursus heb je altijd Reiki achter de hand. Waar of wanneer je het ook nodig hebt\, jij kunt jezelf een extra dosis Reiki geven die jouw lichaam en geest kan helpen te herstellen. Maar je kunt ook anderen Reiki geven wat hun lichaam en geest kan helpen bij herstel. \nWat leer ik in de Reiki 1 cursus?\n\nTijdens de Reiki 1 cursus word je ‘afgestemd’ op (je wordt geïnitieerd in) de Reiki energie. Deze bijzondere ervaring opent jou als kanaal voor de helende kracht van Reiki.\nJe gaat de helende Reiki-energie ervaren tijdens een zelfbehandeling en\nleert verschillende toepassingen van Reiki. Je zult verbaasd staan over de mogelijkheden\nDe 5 leefprincipes van Reiki worden toegelicht en\nje hoort de geschiedenis van Reiki.\nAan het einde van de cursus ontvangt je jouw persoonlijke certificaat.\nDe initiatie en kennis die je deze dag ontvangt is de basis voor je verdere ontwikkeling op het pad van Reiki en van bewustwording. Om je hierbij te ondersteunen\, krijg je na de cursus gratis toegang tot drie Reiki do avonden waar deelnemers Reiki toepassen op elkaar en zo de helende energie bij elkaar en zichzelf versterken.\nJe krijgt een cursusboek mee waarin staat wat je hebt geleerd\, inclusief de afstemmingsmeditatie en verdere verdiepende mogelijkheden.\n\nVoor wie is deze Reiki cursus geschikt?\nIedereen kan in principe de Reiki inwijding ontvangen. Uiteraard … Hoe meer je oefent\, des te sterker je wordt. De cursus is gericht op de leeftijdsgroep 21 jaar en ouder. \n\nPraktische zaken\n\nNa aanmelding ontvang je een bevestiging met details binnen 5 dagen.\nMet meer deelnemers tegelijk aanmelden? Stuur even een email ajb.\nDe genoemde prijs is inclusief btw of vrijgesteld van btw.\nThee e.d. wordt verzorgd.\nLunch graag zelf meenemen (supermarkt is op loopafstand).\nEmail nieuws ontvang je automatisch bij aanmelding en kan je elk moment stoppen.\nDe cursuslocatie is in Waalre of Eindhoven (Noord Brabant)\, afhankelijk van het aantal deelnemers.\n\n\nJa\, ik schrijf me in voor de Reiki 1 Cursus\nSchakel JavaScript in je browser in om dit formulier in te vullen.Ik schrijf mij in voor de cursus Reiki 1 op:Kies een datumzaterdag 9 mei 2026zondag 14 juni 2026zaterdag 4 juli 2026zondag 6 september 2026zaterdag 3 oktober 2026zondag 1 november 2026zaterdag 12 december 2026Voornaam *Achternaam *Bedrijfsnaam (optioneel)Straat en huisnr. *Postcode en Plaatsnaam *Telefoonnummer *Voor het geval een cursus onverhoopt niet doorgaat.Email Adres *Eventuele opmerkingenNameVersturen
URL:https://akasha-coaching-healing.nl/event/reiki-1-cursus-3/
LOCATION:Waalre onder Eindhoven.\, Waalre\, Noord Brabant
CATEGORIES:Reiki 1 Cursus
ATTACH;FMTTYPE=image/jpeg:https://akasha-coaching-healing.nl/wp-content/uploads/2025/03/reiki-akasha-coaching-healing.jpg
END:VEVENT
BEGIN:VEVENT
DTSTART;TZID=Europe/Amsterdam:20251113T190000
DTEND;TZID=Europe/Amsterdam:20251113T220000
DTSTAMP:20260424T141823
CREATED:20240907T121210Z
LAST-MODIFIED:20250904T193432Z
UID:2306-1763060400-1763071200@akasha-coaching-healing.nl
SUMMARY:Reiki do avond (Oefenavond)
DESCRIPTION:Hoe meer je Reiki geeft\, des te sterker Reiki gaat stromen. Een Reiki initiatie is de basis voor je verdere ontwikkeling op het pad van Reiki en van bewustwording. Tijdens de Reiki do avonden geven de deelnemers elkaar Reiki en versterken zo de helende energie bij elkaar en zichzelf. Het is een mooie gelegenheid om gelijk geïnteresseerden te ontmoeten en om zelf ook zo’n heerlijke Reiki behandeling te ontvangen. Iedereen met minimaal Reiki 1 is van harte welkom. Heb je de Reiki 1 cursus gedaan bij Akasha Coaching & Healing\, dan heb je gratis toegang tot drie Reiki do avonden binnen 6 maanden na je cursus. 								\n				\n				\n				\n					Praktische zaken				\n				\n					\n				\n		\n					\n				\n				\n									Na aanmelding ontvang je een bevestiging binnen 5 dagen.De genoemde prijs is inclusief btw of vrijgesteld van btw.Thee e.d. wordt verzorgd.Neem een grote handdoek of fleecedekentje mee.Maximaal 8 deelnemers per avond (vol is vol).Email nieuws ontvang je automatisch bij aanmelding en kan je elk moment stoppen.								\n				\n					\n				\n		\n					\n				\n				\n					Ja\, ik schrijf me in voor de Reiki do (oefen)avond in Waalre				\n				\n					\n				\n		\n					\n				\n				\n									Schakel JavaScript in je browser in om dit formulier in te vullen.Ik schrijf mij in voor de Reiki do (praktijk)avond op: *Kies een datumdonderdag 30 april 2026donderdag 28 mei 2026donderdag 25 juni 2026donderdag 28 augustus 2026donderdag  17 september 2026donderdag 15 oktober 2026donderdag 12 november 2026donderdag 10 december 2026Kies voor welke datum je je inschrijft. Je ontvangt binnen een week bevestiging van me.\nJe kunt al deelnemen als je minimaal een Reiki 1 cursus hebt gevolgd.Voornaam *Achternaam *Telefoonnummer *Voor het geval een avond onverhoopt niet kan doorgaan.Email Adres *Eventuele opmerkingenCommentVersturen
URL:https://akasha-coaching-healing.nl/event/2306/
LOCATION:Akasha Coaching en Healing\, Blokvenlaan 17\, Waalre\, 5581GM\, Nederland
CATEGORIES:Reiki do (Oefenavond)
ATTACH;FMTTYPE=image/jpeg:https://akasha-coaching-healing.nl/wp-content/uploads/2024/09/Reiki-en-Seichem-oefenavond-rotated-e1775465616891.jpg
END:VEVENT
BEGIN:VEVENT
DTSTART;TZID=Europe/Amsterdam:20251115T100000
DTEND;TZID=Europe/Amsterdam:20251115T170000
DTSTAMP:20260424T141824
CREATED:20240907T115811Z
LAST-MODIFIED:20251119T140931Z
UID:2294-1763200800-1763226000@akasha-coaching-healing.nl
SUMMARY:Reiki 2 Cursus
DESCRIPTION:Wat leer ik in de Reiki 2 cursus?\n\nTijdens de Reiki 2 cursus ontvang je de tweedegraads initiatie in Reiki. Je kanaal voor Reiki wordt bij wijze van spreken verder “opgerekt” waardoor je krachtiger energie kunt doorgeven.\nJe leert Reiki symbolen waarmee je\n\n\n\n\n\n\nenergie kunt richten en versterken\,\nenergie kunt sturen op afstand naar dingen personen en situaties\nenergie kunt sturen naar het verleden\, heden en toekomst\nenergie sturen naar het onderbewustzijn via de mentale sleutel om je onderbewuste te “programmeren”\n\n\n\n\n\n\nAan het einde van de cursus ontvangt je jouw persoonlijke certificaat.\nJe krijgt een cursusboek mee waarin staat wat je hebt geleerd\, inclusief extra universele symbolen en verdere verdiepende mogelijkheden.\nDe initiatie en kennis die je deze dag ontvangt is de basis voor je verdere ontwikkeling op het pad van Reiki en van bewustwording. Om je hierbij te ondersteunen\, organiseer ik maandelijks een Reiki do avond waar deelnemers Reiki toepassen op elkaar en zo de helende energie bij elkaar en zichzelf versterken.\n\nVoor wie is deze Reiki cursus geschikt?\nIedereen die al in de eerste graad Reiki is ingewijd kan de Reiki 2 inwijding ontvangen. \nJa\, ik schrijf me in voor de Reiki 2 Cursus\nSchakel JavaScript in je browser in om dit formulier in te vullen.Ik schrijf mij in voor de Reiki 2 cursus op:Kies een datumzondag 17 mei 2026zaterdag 11 juli 2026zondag 13 september 2026zaterdag 14 november 2026Kies voor welke datum je je inschrijft. Je ontvangt binnen een week bevestiging van me.\nJe kunt de Reiki 2 cursus enkel volgen als je een Reiki 1 certificaat hebt.\nHoudt minimaal 3 maanden tijd tussen je Reiki 1 en Reiki 2 initiatie. Voornaam *Achternaam *Telefoonnummer *Voor het geval een cursus onverhoopt niet doorgaat.Email Adres *Eventuele opmerkingenEmailVersturen
URL:https://akasha-coaching-healing.nl/event/reiki-2-cursus-7/
LOCATION:Waalre onder Eindhoven.\, Waalre\, Noord Brabant
CATEGORIES:Reiki 2 Cursus
END:VEVENT
END:VCALENDAR